BEGIN:VCALENDAR
VERSION:2.0
PRODID:-//Talks.cam//talks.cam.ac.uk//
X-WR-CALNAME:Talks.cam
BEGIN:VEVENT
SUMMARY:SUMMER BREAK - SUMMER BREAK
DTSTART:20190724T120000Z
DTEND:20190724T130000Z
UID:TALK125527@talks.cam.ac.uk
CONTACT:Vicky Clarke
DESCRIPTION:SUMMER BREAK
LOCATION:William Harvey Lecture Theatre
END:VEVENT
END:VCALENDAR
