BEGIN:VCALENDAR
VERSION:2.0
PRODID:-//Talks.cam//talks.cam.ac.uk//
X-WR-CALNAME:Talks.cam
BEGIN:VEVENT
SUMMARY:The emergent behaviour of the nuclear array in syncytial embryos  
 - Jörg Großhans (Universität Göttingen) 
DTSTART:20190612T163000Z
DTEND:20190612T183000Z
UID:TALK125533@talks.cam.ac.uk
CONTACT:Jelle van den Ameele
DESCRIPTION:Abstract not available
LOCATION:Gurdon Institute Tea Room
END:VEVENT
END:VCALENDAR
