BEGIN:VCALENDAR
VERSION:2.0
PRODID:-//Talks.cam//talks.cam.ac.uk//
X-WR-CALNAME:Talks.cam
BEGIN:VEVENT
SUMMARY:Piezochromic Effects In Nanocrystals - Prof. Carla Molteni\, King
 ’s College London\, UK
DTSTART:20190614T150000Z
DTEND:20190614T160000Z
UID:TALK126364@talks.cam.ac.uk
CONTACT:Yarjan Abdul Samad
DESCRIPTION:Abstract not available
LOCATION:Cambridge Graphene Centre\, 9 JJ Thomson Avenue\, Cambridge CB3 O
 FA\, UK
END:VEVENT
END:VCALENDAR
