BEGIN:VCALENDAR
VERSION:2.0
PRODID:-//Talks.cam//talks.cam.ac.uk//
X-WR-CALNAME:Talks.cam
BEGIN:VEVENT
SUMMARY:Babraham Distinguished Lecture - Genome regulation during developm
 ental transitions: New views of old questions  - Dr Eileen Furlong\; Head:
  Genome Biology Unit\, European Molecular Biology Laboratory - EMBL\, Heid
 elberg
DTSTART:20200311T140000Z
DTEND:20200311T150000Z
UID:TALK127606@talks.cam.ac.uk
CONTACT:Bobbie Claxton
DESCRIPTION:Abstract not available
LOCATION:Babraham - The Cambridge Building - Petersfield Lecture Theatre
END:VEVENT
END:VCALENDAR
