BEGIN:VCALENDAR
VERSION:2.0
PRODID:-//Talks.cam//talks.cam.ac.uk//
X-WR-CALNAME:Talks.cam
BEGIN:VEVENT
SUMMARY:How to write a great research paper - Simon Peyton-Jones\, Microso
 ft Research
DTSTART:20080708T103000Z
DTEND:20080708T113000Z
UID:TALK12779@talks.cam.ac.uk
CONTACT:Dr Fabien Petitcolas
DESCRIPTION:Writing papers and giving talks are key skills for any researc
 her\, but they aren’t easy. In this pair of presentations\, I’ll descr
 ibe simple guidelines that I follow for writing papers and giving talks\, 
 which I think may be useful to you too. I don’t have all the answers –
  far from it – and I hope that the presentation will evolve into a discu
 ssion in which you share your own insights\, rather than a lecture.
LOCATION:Microsoft Research Ltd\, 7 J J Thomson Avenue (Off Madingley Road
 )\, Cambridge
END:VEVENT
END:VCALENDAR
