BEGIN:VCALENDAR
VERSION:2.0
PRODID:-//Talks.cam//talks.cam.ac.uk//
X-WR-CALNAME:Talks.cam
BEGIN:VEVENT
SUMMARY:Reporting back from breakout groups and synthesis of innovations a
 nd needs - 
DTSTART:20190801T150000Z
DTEND:20190801T170000Z
UID:TALK127867@talks.cam.ac.uk
CONTACT:INI IT
DESCRIPTION:
LOCATION:Seminar Room 1\, Newton Institute
END:VEVENT
END:VCALENDAR
