BEGIN:VCALENDAR
VERSION:2.0
PRODID:-//Talks.cam//talks.cam.ac.uk//
X-WR-CALNAME:Talks.cam
BEGIN:VEVENT
SUMMARY:Leaving Party for Julia\, Tammy and Jessica - Julia\, Tammy and Je
 ssica
DTSTART:20080709T153000Z
DTEND:20080709T163000Z
UID:TALK12837@talks.cam.ac.uk
CONTACT:7011
DESCRIPTION:Abstract not available
LOCATION:Seminar Room\, Sanger Building
END:VEVENT
END:VCALENDAR
