BEGIN:VCALENDAR
VERSION:2.0
PRODID:-//Talks.cam//talks.cam.ac.uk//
X-WR-CALNAME:Talks.cam
BEGIN:VEVENT
SUMMARY: Title: “A unit and their patient’s  journey towards the world
 ’s first successful DCD heart-lung transplant” - Presenter: Mr Simon M
 esser FRCS\, PhD\, Specialist Registrar in CT Surgery\, Royal Papworth Hos
 pital.
DTSTART:20190918T123000Z
DTEND:20190918T130000Z
UID:TALK128506@talks.cam.ac.uk
CONTACT:Vicky Clarke
DESCRIPTION:Specialist Leads: Dr Clive Lewis & Professor Andres Floto\n\nL
 ead Consultant: Mr Pedro Catarino\n\nPresenter: Mr Simon Messer FRCS\, PhD
 \, Specialist Registrar in CT Surgery\, Royal Papworth Hospital.\n\nTitle:
  “A unit and their patient’s  journey towards the world’s first succ
 essful DCD heart-lung transplant”\n\nSpecialty: Papworth Hospital\n
LOCATION:William Harvey Lecture Theatre
END:VEVENT
END:VCALENDAR
