BEGIN:VCALENDAR
VERSION:2.0
PRODID:-//Talks.cam//talks.cam.ac.uk//
X-WR-CALNAME:Talks.cam
BEGIN:VEVENT
SUMMARY:Plasma physics in the light of Galilean invariance - Dr. Toby Hein
 emann (NBI\, Copenhagen)
DTSTART:20191125T140000Z
DTEND:20191125T150000Z
UID:TALK129208@talks.cam.ac.uk
CONTACT:Chris Hamilton
DESCRIPTION:Abstract not available
LOCATION:MR14\,  Centre for Mathematical Sciences\, Wilberforce Road\, Cam
 bridge
END:VEVENT
END:VCALENDAR
