BEGIN:VCALENDAR
VERSION:2.0
PRODID:-//Talks.cam//talks.cam.ac.uk//
X-WR-CALNAME:Talks.cam
BEGIN:VEVENT
SUMMARY: Title: 'Shedding new light on Job's plight - a novel cause of hyp
 er IgE syndrome'. - Presenter: Sarah Spencer
DTSTART:20190925T120000Z
DTEND:20190925T123000Z
UID:TALK129415@talks.cam.ac.uk
CONTACT:Vicky Clarke
DESCRIPTION:Specialist Lead: Professor Christoph Hess\n\nLead Consultant: 
 James Thaventhiran\n\nPresenter: Sarah Spencer\n\nTitle: 'Shedding new lig
 ht on Job's plight - a novel cause of hyper IgE syndrome'.\n\nSpecialty: C
 linical Immunology/Allergy \n\n\n
LOCATION:William Harvey Lecture Theatre
END:VEVENT
END:VCALENDAR
