BEGIN:VCALENDAR
VERSION:2.0
PRODID:-//Talks.cam//talks.cam.ac.uk//
X-WR-CALNAME:Talks.cam
BEGIN:VEVENT
SUMMARY:The value of student projects in autism research: Findings from st
 udies of disordered eating\, gender identity\, and career choice - Dr Gare
 th Richards\, School of Psychology\, Newcastle University
DTSTART:20191113T103000Z
DTEND:20191113T113000Z
UID:TALK129628@talks.cam.ac.uk
CONTACT:Tanya L Procyshyn
DESCRIPTION:Abstract not available
LOCATION:Large Meeting Room (groundfloor)\, Douglas House\, 18B\, Trumping
 ton Road
END:VEVENT
END:VCALENDAR
