BEGIN:VCALENDAR
VERSION:2.0
PRODID:-//Talks.cam//talks.cam.ac.uk//
X-WR-CALNAME:Talks.cam
BEGIN:VEVENT
SUMMARY:Title: ‘Better Late Than Never – upper limb surgical options f
 or children and adolescents with cerebral palsy’ - Presenter: Dr Kuldeep
  Stohr & Guest Speaker: Dr John Scott\,  Orthopaedic Surgeon\, Queensland 
 Children’s Hospital\, Australia
DTSTART:20191002T123000Z
DTEND:20191002T130000Z
UID:TALK129703@talks.cam.ac.uk
CONTACT:Vicky Clarke
DESCRIPTION:Specialist Lead: Professor David Rowitch & Professor Andrew Mc
 Caskie \n\nPresenter: Dr Kuldeep Stohr & Guest Speaker: Dr John Scott\,  O
 rthopaedic Surgeon\, Queensland Children’s Hospital\, Australia\n\nTitle
 : ‘Better Late Than Never – upper limb surgical options for children a
 nd adolescents with cerebral palsy’ \n\nSpecialty: Paediatrics\n\n
LOCATION:William Harvey Lecture Theatre
END:VEVENT
END:VCALENDAR
