BEGIN:VCALENDAR
VERSION:2.0
PRODID:-//Talks.cam//talks.cam.ac.uk//
X-WR-CALNAME:Talks.cam
BEGIN:VEVENT
SUMMARY:Sex differences in cognition - Sue Healy\,  University of St Andre
 ws
DTSTART:20090224T170000Z
DTEND:20090224T180000Z
UID:TALK12999@talks.cam.ac.uk
CONTACT:Chris Jiggins
DESCRIPTION:Abstract not available
LOCATION:Part II Lecture Theatre\, Department of Zoology
END:VEVENT
END:VCALENDAR
