BEGIN:VCALENDAR
VERSION:2.0
PRODID:-//Talks.cam//talks.cam.ac.uk//
X-WR-CALNAME:Talks.cam
BEGIN:VEVENT
SUMMARY:Machine Learning Book Reading Club - Speaker to be confirmed
DTSTART:20080807T170000Z
DTEND:20080807T180000Z
UID:TALK13027@talks.cam.ac.uk
CONTACT:Philipp Hennig
DESCRIPTION:This week\, we will discuss chapter 6\n\n*Kernel Methods* \n\n
 in Chris Bishop's book.(pp. 291-- 320)
LOCATION:TCM Seminar Room\, Cavendish Laboratory\, Department of Physics
END:VEVENT
END:VCALENDAR
