BEGIN:VCALENDAR
VERSION:2.0
PRODID:-//Talks.cam//talks.cam.ac.uk//
X-WR-CALNAME:Talks.cam
BEGIN:VEVENT
SUMMARY:Purinergic control of inflammation and cell death - Leanne Stokes\
 , UEA Norwich
DTSTART:20191205T130000Z
DTEND:20191205T140000Z
UID:TALK130690@talks.cam.ac.uk
CONTACT:47770
DESCRIPTION:Abstract not available
LOCATION:School of Clinical Medicine\, Lecture Theatre Two
END:VEVENT
END:VCALENDAR
