BEGIN:VCALENDAR
VERSION:2.0
PRODID:-//Talks.cam//talks.cam.ac.uk//
X-WR-CALNAME:Talks.cam
BEGIN:VEVENT
SUMMARY:Title: On doctors dealing with grief - Presenter: Dr Christiane Ri
 edinger (GP ACF) 
DTSTART:20191016T123000Z
DTEND:20191016T130000Z
UID:TALK130744@talks.cam.ac.uk
CONTACT:Vicky Clarke
DESCRIPTION:Specialist Lead: Professor Simon Griffin\n\nLead Consultant: P
 rofessor Simon Griffin\n\nPresenter: Dr Christiane Riedinger (GP ACF) \n\n
 Title: On doctors dealing with grief\n\nSpecialty: General Practice
LOCATION:William Harvey Lecture Theatre
END:VEVENT
END:VCALENDAR
