BEGIN:VCALENDAR
VERSION:2.0
PRODID:-//Talks.cam//talks.cam.ac.uk//
X-WR-CALNAME:Talks.cam
BEGIN:VEVENT
SUMMARY:A deeper take on our sexual nature: Importance of cellular sex and
  underlying mechanisms - Bruno Hudry (Institute de Biologie Valrose)
DTSTART:20200128T130000Z
DTEND:20200128T140000Z
UID:TALK130825@talks.cam.ac.uk
CONTACT:Rahia Mashoodh
DESCRIPTION:Abstract not available
LOCATION:Part II Lecture Theatre\, Department of Zoology \, Downing Street
 \, CB2 3EJ
END:VEVENT
END:VCALENDAR
