BEGIN:VCALENDAR
VERSION:2.0
PRODID:-//Talks.cam//talks.cam.ac.uk//
X-WR-CALNAME:Talks.cam
BEGIN:VEVENT
SUMMARY:The evolution of plasticity for life cycle regulation in seasonal 
 environments - Karl Gotthard (Stockholm University)
DTSTART:20200211T130000Z
DTEND:20200211T140000Z
UID:TALK130831@talks.cam.ac.uk
CONTACT:Rahia Mashoodh
DESCRIPTION:Abstract not available
LOCATION:Part II Lecture Theatre\, Department of Zoology \, Downing Street
 \, CB2 3EJ
END:VEVENT
END:VCALENDAR
