BEGIN:VCALENDAR
VERSION:2.0
PRODID:-//Talks.cam//talks.cam.ac.uk//
X-WR-CALNAME:Talks.cam
BEGIN:VEVENT
SUMMARY:Volcanic history archived in glacial ice - Joe McConnell (Desert R
 esearch Institute\, USA)
DTSTART:20191107T130000Z
DTEND:20191107T140000Z
UID:TALK131203@talks.cam.ac.uk
CONTACT:Thomas Aubry
DESCRIPTION:Abstract not available
LOCATION:Tilley Lecture Theatre\, Earth Sciences Department\, Downing Site
END:VEVENT
END:VCALENDAR
