BEGIN:VCALENDAR
VERSION:2.0
PRODID:-//Talks.cam//talks.cam.ac.uk//
X-WR-CALNAME:Talks.cam
BEGIN:VEVENT
SUMMARY:The legacy of Lord Rayleigh's 'Theory of Sound' - Emeritus Prof Ji
 m Woodhouse\, CUED 
DTSTART:20191025T150000Z
DTEND:20191025T160000Z
UID:TALK131224@talks.cam.ac.uk
CONTACT:46601
DESCRIPTION:Abstract not available
LOCATION:JDB Seminar Room\, CUED
END:VEVENT
END:VCALENDAR
