BEGIN:VCALENDAR
VERSION:2.0
PRODID:-//Talks.cam//talks.cam.ac.uk//
X-WR-CALNAME:Talks.cam
BEGIN:VEVENT
SUMMARY:The Religious Roots of Environmentalist Thought and Activism in Eu
 rope and America - Mark Stoll (Texas Tech University / Rachel Carson Centr
 e) 
DTSTART:20191112T170000Z
DTEND:20191112T183000Z
UID:TALK131275@talks.cam.ac.uk
CONTACT:Dr AM Price
DESCRIPTION:Abstract not available
LOCATION: Lecture Theatre\, Trinity Hall
END:VEVENT
END:VCALENDAR
