BEGIN:VCALENDAR
VERSION:2.0
PRODID:-//Talks.cam//talks.cam.ac.uk//
X-WR-CALNAME:Talks.cam
BEGIN:VEVENT
SUMMARY:Video games in psychiatry: "a vicarious experience with a dazing\,
  almost anaesthetic\, effect on the mind"? - Professor Paul Fletcher\, Dep
 artment of Psychiatry\, University of Cambridge
DTSTART:20191114T123000Z
DTEND:20191114T133000Z
UID:TALK131323@talks.cam.ac.uk
CONTACT:Dr Muzaffer Kaser
DESCRIPTION:Abstract not available
LOCATION:Seminar Room\, Herchel Smith Building\, Forvie Site.
END:VEVENT
END:VCALENDAR
