BEGIN:VCALENDAR
VERSION:2.0
PRODID:-//Talks.cam//talks.cam.ac.uk//
X-WR-CALNAME:Talks.cam
BEGIN:VEVENT
SUMMARY:Effect of Hereditary Spastic Paraplegia genes on presynaptic calci
 um handling - Megan Oliva\, Dept of Genetics
DTSTART:20191016T163000Z
DTEND:20191016T183000Z
UID:TALK132436@talks.cam.ac.uk
CONTACT:Jelle van den Ameele
DESCRIPTION:Abstract not available
LOCATION:Gurdon Institute Tea Room
END:VEVENT
END:VCALENDAR
