BEGIN:VCALENDAR
VERSION:2.0
PRODID:-//Talks.cam//talks.cam.ac.uk//
X-WR-CALNAME:Talks.cam
BEGIN:VEVENT
SUMMARY:Decoding the thermochemical and magnetic evolution of asteroids us
 ing thermal modelling - James Bryson\, Department of Earth Sciences\, Univ
 ersity of Cambridge
DTSTART:20191028T130000Z
DTEND:20191028T140000Z
UID:TALK132682@talks.cam.ac.uk
CONTACT:Prof. Jerome Neufeld
DESCRIPTION:Abstract not available
LOCATION:MR5\, Centre for Mathematical Sciences
END:VEVENT
END:VCALENDAR
