BEGIN:VCALENDAR
VERSION:2.0
PRODID:-//Talks.cam//talks.cam.ac.uk//
X-WR-CALNAME:Talks.cam
BEGIN:VEVENT
SUMMARY:Connecting Theory and Method in Critical Approaches to Research wi
 th ‘Vulnerable’ Groups - Speaker to be confirmed
DTSTART:20191111T120000Z
DTEND:20191111T140000Z
UID:TALK132805@talks.cam.ac.uk
CONTACT:Julia Doyle
DESCRIPTION:Putting It into Practice: Connecting Theory and Method in Crit
 ical Approaches to Research with “Vulnerable” Groups\n\n\nIn this sess
 ion we explore how we can translate critical approaches to “vulnerabilit
 y” into methodological training and research practice. We will consider 
 how to balance pragmatic research needs with epistemological goals in rese
 arch with “vulnerable” groups.\n\nReadings:\n\nCampbell et al.\, 2009.
  Training interviewers for research on sexual violence: A qualitative stud
 y of rape survivors' recommendations for interview practice. Violence agai
 nst women\, 15(5)\, pp.595-617.\nBottoms\, A.\, 2013. Morality\, crime\, c
 ompliance and public policy. In Ideology\, crime and criminal justice (pp.
  44-76). Willan.\n \n\nOpen to all. No registration required.\nAn event or
 ganised by Critical Approches to 'Vulnerability' in Empirical Research (CA
 VER) Network.\nAdministrative assistance: networks@crassh.cam.ac.uk
LOCATION:Seminar Room SG2\, Alison Richard Building\, 7 West Road\, Cambri
 dge\, CB3 9DT
END:VEVENT
END:VCALENDAR
