BEGIN:VCALENDAR
VERSION:2.0
PRODID:-//Talks.cam//talks.cam.ac.uk//
X-WR-CALNAME:Talks.cam
BEGIN:VEVENT
SUMMARY:Help! I need to find stuff for my project now! - Amy Theobald\, Re
 search Support\, Betty & Gordon Moore Library
DTSTART:20191022T120000Z
DTEND:20191022T130000Z
UID:TALK132835@talks.cam.ac.uk
CONTACT:Amy Theobald
DESCRIPTION:This session equips participants with all the fundamental skil
 ls that they need to build and execute effective search strategies to loca
 te and critically evaluate relevant materials for assignments\, literature
  reviews\, projects and other related research activities.\n\nThis session
  is for all STEMM students. Others welcome.
LOCATION:Pink Study Room\, Betty and Gordon Moore Library
END:VEVENT
END:VCALENDAR
