BEGIN:VCALENDAR
VERSION:2.0
PRODID:-//Talks.cam//talks.cam.ac.uk//
X-WR-CALNAME:Talks.cam
BEGIN:VEVENT
SUMMARY:PRICE OR VARIETY? AN EVALUATION OF MERGERS EFFECTS IN GROCERY RETA
 ILING - Tomaso Duso\, Head of the Firms and Markets Department\, DIW Berli
 n
DTSTART:20191030T133000Z
DTEND:20191030T143000Z
UID:TALK133666@talks.cam.ac.uk
CONTACT:Emily Brown
DESCRIPTION:We study the effect of a merger between two Dutch supermarket 
 chains to assess whether assortment decisions are key strategic instrument
 s for firms responding to local market conditions. We adopt a difference i
 n differences strategy that exploits local variation in the merger’s eff
 ects. We show that the merger did not affect prices but it led the merging
  parties to reposition their assortment to avoid cannibalisation. While th
 e low variety target’s stores reduced the depth of their assortment when
  in direct competition with the acquirer\, the latter increased their asso
 rtment. A simple theoretical model of variety competition explains most of
  our findings.
LOCATION:LT4\, Cambridge Judge Business School
END:VEVENT
END:VCALENDAR
