BEGIN:VCALENDAR
VERSION:2.0
PRODID:-//Talks.cam//talks.cam.ac.uk//
X-WR-CALNAME:Talks.cam
BEGIN:VEVENT
SUMMARY: Title: Sneezy\, wheezy and queezy - Presenter: Dr Allyson Egan on
  behalf of Professor David Jayne
DTSTART:20191023T120000Z
DTEND:20191023T123000Z
UID:TALK133723@talks.cam.ac.uk
CONTACT:Vicky Clarke
DESCRIPTION:Specialist Lead: Professor Ken Smith\n\nLead Consultant: Profe
 ssor David Jayne\n\nPresenter: Dr Allyson Egan on behalf of Professor Davi
 d Jayne\n\nTitle: Sneezy\, wheezy and queezy\n\nSpecialty: Renal Medicine\
 n
LOCATION:William Harvey Lecture Theatre
END:VEVENT
END:VCALENDAR
