BEGIN:VCALENDAR
VERSION:2.0
PRODID:-//Talks.cam//talks.cam.ac.uk//
X-WR-CALNAME:Talks.cam
BEGIN:VEVENT
SUMMARY:Title: The flood of resistance: could an ARK save us all? -  Prese
 nter: Dr M Routledge
DTSTART:20191113T130000Z
DTEND:20191113T133000Z
UID:TALK133744@talks.cam.ac.uk
CONTACT:Vicky Clarke
DESCRIPTION:Specialist Leads: Professor Paul Lehner & Dr Nick Brown \n\nLe
 ad Consultant: Dr Nick Brown\n\nPresenter: Dr M Routledge\n\nTitle: The fl
 ood of resistance: could an ARK save us all?\n\nSpecialty: Infectious Dise
 ases/Clinical Microbiology/Antibiotic Awareness Week\n
LOCATION:William Harvey Lecture Theatre
END:VEVENT
END:VCALENDAR
