BEGIN:VCALENDAR
VERSION:2.0
PRODID:-//Talks.cam//talks.cam.ac.uk//
X-WR-CALNAME:Talks.cam
BEGIN:VEVENT
SUMMARY: Title: chemotherapy induced cardiomyopathy - Presenter: Dr James 
 O’Brien
DTSTART:20191113T133000Z
DTEND:20191113T140000Z
UID:TALK133747@talks.cam.ac.uk
CONTACT:Vicky Clarke
DESCRIPTION:Specialist Lead: Professor Martin Bennett\n\nLead Consultant: 
 Dr Sharon Wilson\n\nPresenter: Dr James O’Brien - \n\nTitle: chemotherap
 y induced cardiomyopathy\n\nSpecialty: Cardiovascular\n\n
LOCATION:William Harvey Lecture Theatre
END:VEVENT
END:VCALENDAR
