BEGIN:VCALENDAR
VERSION:2.0
PRODID:-//Talks.cam//talks.cam.ac.uk//
X-WR-CALNAME:Talks.cam
BEGIN:VEVENT
SUMMARY:Title: Losing the grain of thread - Presenter: Professor Patrick C
 hinnery
DTSTART:20191204T133000Z
DTEND:20191204T140000Z
UID:TALK134710@talks.cam.ac.uk
CONTACT:Vicky Clarke
DESCRIPTION:Specialist Lead: Professor Patrick Chinnery\n\nLead Consultant
 : Professor Patrick Chinnery\n\nPresenter: Professor Patrick Chinnery\n\nT
 itle: Losing the grain of thread\n\nSpecialty: Neurosciences \n
LOCATION:William Harvey Lecture Theatre
END:VEVENT
END:VCALENDAR
