BEGIN:VCALENDAR
VERSION:2.0
PRODID:-//Talks.cam//talks.cam.ac.uk//
X-WR-CALNAME:Talks.cam
BEGIN:VEVENT
SUMMARY:Our House is on fire… - Professor Steve Evans\, Dr Curie Park an
 d Lucia Corsini
DTSTART:20191113T130000Z
DTEND:20191113T140000Z
UID:TALK134722@talks.cam.ac.uk
CONTACT:Lisa Barnett
DESCRIPTION:This year the UK parliament declared that we are facing a clim
 ate change emergency. \nBut how urgent is it really? Are we doing enough
 ? Is climate change the only problem?\n\nThe IfM is hosting a talk and op
 en discussion on manufacturing a sustainable world.\n\n
LOCATION:Institute for Manufacturing\, 17 Charles Babbage Road\, Cambridge
END:VEVENT
END:VCALENDAR
