BEGIN:VCALENDAR
VERSION:2.0
PRODID:-//Talks.cam//talks.cam.ac.uk//
X-WR-CALNAME:Talks.cam
BEGIN:VEVENT
SUMMARY:LMB Seminar Series: Regulation of gene expression and genome organ
 isation - Professor Julie Ahringer\, Director\, The Gurdon Institute\, Uni
 versity of Cambridge
DTSTART:20200327T110000Z
DTEND:20200327T120000Z
UID:TALK134896@talks.cam.ac.uk
CONTACT:Scientific Meetings Co-ordinator
DESCRIPTION:A fundamental property of a single animal genome sequence is t
 he ability to give rise to diverse cell types. Differential control of the
  genome establishes gene expression programmes that drive cellular identit
 y and function. I will discuss the regulation of gene expression and genom
 e architecture\, focusing on regulatory elements\, chromatin domains\, and
  3D genome organization in C. elegans.
LOCATION:Max Perutz Lecture Theatre\, Medical Research Council (MRC) (MRC 
 Laboratory of Molecular Biol
END:VEVENT
END:VCALENDAR
