BEGIN:VCALENDAR
VERSION:2.0
PRODID:-//Talks.cam//talks.cam.ac.uk//
X-WR-CALNAME:Talks.cam
BEGIN:VEVENT
SUMMARY:An evening with Lynn Rothschild - Professor Lynn Rothschild\, NASA
  Ames Research Centre\, Stanford University\, Brown University
DTSTART:20191120T180000Z
DTEND:20191120T193000Z
UID:TALK135112@talks.cam.ac.uk
CONTACT:83962
DESCRIPTION:How did life evolve?\n\nJoin us for an inspiring evening with 
 Dr Lynn Rothschild as she shares about her life as a NASA scientist\, and 
 her research work into how life evolved. \n\nDr Rothschild is an evolution
 ary biologist and astrobiologist at NASA's Ames Research Centre. She also 
 taught Astrobiology and Space Exploration at Stanford University\, and is 
 currently an adjunct Professor at Brown University. 
LOCATION:Pfizer Lecture Theatre\, Department of Chemistry\, Lensfield Road
 \, Cambridge
END:VEVENT
END:VCALENDAR
