BEGIN:VCALENDAR
VERSION:2.0
PRODID:-//Talks.cam//talks.cam.ac.uk//
X-WR-CALNAME:Talks.cam
BEGIN:VEVENT
SUMMARY: Title: ‘’chalk and cheese lead to wheeze’’ -  Presenters:
  Dr Sabina Karimi & Dr Jolly
DTSTART:20200129T133000Z
DTEND:20200129T140000Z
UID:TALK136222@talks.cam.ac.uk
CONTACT:Vicky Clarke
DESCRIPTION:Specialist Lead: Dr Menna Clatworthy\n\nLead Consultant: Dr El
 aine Jolly\n\nPresenter: Dr Sabina Karimi & Dr Jolly\n\nTitle: ‘’chalk
  and cheese lead to wheeze’’\n\nSpecialty: Transplantation\n\n
LOCATION:William Harvey Lecture Theatre
END:VEVENT
END:VCALENDAR
