BEGIN:VCALENDAR
VERSION:2.0
PRODID:-//Talks.cam//talks.cam.ac.uk//
X-WR-CALNAME:Talks.cam
BEGIN:VEVENT
SUMMARY:Lecture 2: Inverse problems in PDEs\, Infinite dimensional inverse
  problems - Aretha Teckentrup (Edinburgh)
DTSTART:20200121T140000Z
DTEND:20200121T160000Z
UID:TALK136297@talks.cam.ac.uk
CONTACT:J.W.Stevens
DESCRIPTION:Abstract not available
LOCATION:MR11\, Centre for Mathematical Sciences
END:VEVENT
END:VCALENDAR
