BEGIN:VCALENDAR
VERSION:2.0
PRODID:-//Talks.cam//talks.cam.ac.uk//
X-WR-CALNAME:Talks.cam
BEGIN:VEVENT
SUMMARY:K-theory and motivic cohomology - 1 - Charles Weibel (Rutgers\, Th
 e State University of New Jersey)
DTSTART:20200113T100000Z
DTEND:20200113T110000Z
UID:TALK136594@talks.cam.ac.uk
CONTACT:INI IT
DESCRIPTION:Constructions and basic properties of K-theory
LOCATION:Seminar Room 1\, Newton Institute
END:VEVENT
END:VCALENDAR
