BEGIN:VCALENDAR
VERSION:2.0
PRODID:-//Talks.cam//talks.cam.ac.uk//
X-WR-CALNAME:Talks.cam
BEGIN:VEVENT
SUMMARY:Capturing video with final cut pro in edit suite 2 - Bjoern Hassle
 r
DTSTART:20080925T110000Z
DTEND:20080925T120000Z
UID:TALK13677@talks.cam.ac.uk
CONTACT:Bjoern Hassler
DESCRIPTION:This is a talk aimed at CARET staff\, but everybody is welcome
 .
LOCATION:CARET\, 16 Mill Lane\, 1st floor
END:VEVENT
END:VCALENDAR
