BEGIN:VCALENDAR
VERSION:2.0
PRODID:-//Talks.cam//talks.cam.ac.uk//
X-WR-CALNAME:Talks.cam
BEGIN:VEVENT
SUMMARY:Disease mechanisms in human obesity and related metabolic disease 
 - Prof. Stephen O'Rahilly - Co-Director of IMS and Director of IMS-MRL\, C
 ambridge
DTSTART:20090120T123000Z
DTEND:20090120T133000Z
UID:TALK13707@talks.cam.ac.uk
CONTACT:Dr. Walid Khaled
DESCRIPTION:Abstract not available
LOCATION:Lecture Theatre\, Department of Pathology
END:VEVENT
END:VCALENDAR
