BEGIN:VCALENDAR
VERSION:2.0
PRODID:-//Talks.cam//talks.cam.ac.uk//
X-WR-CALNAME:Talks.cam
BEGIN:VEVENT
SUMMARY:Talk 2 of 2: Synchronising climate records via the cosmic ray sign
 al in environmental archives - Raimund Muscheler (University of Lund)
DTSTART:20200109T173000Z
DTEND:20200109T193000Z
UID:TALK137458@talks.cam.ac.uk
CONTACT:David Hodell
DESCRIPTION:Abstract not available
LOCATION:Riley Auditorium\, Clare College Memorial Court\, Queens Road
END:VEVENT
END:VCALENDAR
