BEGIN:VCALENDAR
VERSION:2.0
PRODID:-//Talks.cam//talks.cam.ac.uk//
X-WR-CALNAME:Talks.cam
BEGIN:VEVENT
SUMMARY:Democracy and Emergency in India - Professor Gyan Prakash (Princet
 on University)
DTSTART:20200117T170000Z
DTEND:20200117T190000Z
UID:TALK137920@talks.cam.ac.uk
CONTACT:Barbara Roe
DESCRIPTION:Abstract not available
LOCATION:Seminar Room SG1\, Alison Richard Building
END:VEVENT
END:VCALENDAR
