BEGIN:VCALENDAR
VERSION:2.0
PRODID:-//Talks.cam//talks.cam.ac.uk//
X-WR-CALNAME:Talks.cam
BEGIN:VEVENT
SUMMARY:Cancer: From science to benefit. - Prof Sir Leszek Borysiewicz\, C
 ancer Research UK
DTSTART:20200224T193000Z
DTEND:20200224T210000Z
UID:TALK137929@talks.cam.ac.uk
CONTACT:John Cook
DESCRIPTION:Healthcare delivery is facing an important transition with a f
 ocus increasingly on chronic disease. Likewise\, the epidemiology of cance
 r incidence and prevalence globally indicates that while the incidence of 
 cancer is rising\, the ability to extend life is adding considerably to th
 e burden of care. Continued scientific advances in our understanding of ca
 ncer and opening up new therapeutic avenues is adding additional pressure 
 and cost pressure on care for cancer patients. As many of the scientific a
 dvances\, particularly the Omics Revolution have a direct bearing on cance
 r\, it places this condition at the forefront of defining the way in which
  healthcare will need to be delivered in the next 20 years.\n\n"Add to cal
 endar":https://www.addevent.com/event/?Oi4464483\n\n"Find out more about t
 his event":https://www.csar.org.uk/lectures/lectures-2019-2020/tbc-24feb20
 20/\n\n"Find out more about CSAR membership":http://www.csar.org.uk/member
 ship/\n
LOCATION:The Wolfson Hall\, Churchill College\, Storey's Way\, Cambridge\,
  CB3 0DS
END:VEVENT
END:VCALENDAR
