BEGIN:VCALENDAR
VERSION:2.0
PRODID:-//Talks.cam//talks.cam.ac.uk//
X-WR-CALNAME:Talks.cam
BEGIN:VEVENT
SUMMARY:New tools to understand and protect the biosphere - Professor Alex
 andre Antonelli\, Director of Science\, Royal Botanic Gardens at Kew
DTSTART:20200615T183000Z
DTEND:20200615T200000Z
UID:TALK137941@talks.cam.ac.uk
CONTACT:John Cook
DESCRIPTION:*Past\, present and future of biodiversity"\n\n"Add to calenda
 r":https://www.addevent.com/event/?xB4464494
LOCATION:The Wolfson Hall\, Churchill College\, Storey's Way\, Cambridge\,
  CB3 0DS
END:VEVENT
END:VCALENDAR
