BEGIN:VCALENDAR
VERSION:2.0
PRODID:-//Talks.cam//talks.cam.ac.uk//
X-WR-CALNAME:Talks.cam
BEGIN:VEVENT
SUMMARY:Quantifying irreversible mixing in stratified turbulence and break
 ing internal waves - Chris Howland\, DAMTP
DTSTART:20200203T130000Z
DTEND:20200203T140000Z
UID:TALK138160@talks.cam.ac.uk
CONTACT:Prof. Jerome Neufeld
DESCRIPTION:Abstract not available
LOCATION:MR5\, Centre for Mathematical Sciences
END:VEVENT
END:VCALENDAR
