BEGIN:VCALENDAR
VERSION:2.0
PRODID:-//Talks.cam//talks.cam.ac.uk//
X-WR-CALNAME:Talks.cam
BEGIN:VEVENT
SUMMARY:Title to be confirmed - Speaker to be confirmed
DTSTART:20200205T130000Z
DTEND:20200205T133000Z
UID:TALK138223@talks.cam.ac.uk
CONTACT:Vicky Clarke
DESCRIPTION:Specialist Lead: Dr Fraz Mir\n\nLead Consultant: Zoe Fritz & S
 iva Pasupathy\n\nPresenter:\n\nTitle:\n\nSpecialty: Acute Medicine\n
LOCATION:William Harvey Lecture Theatre
END:VEVENT
END:VCALENDAR
