BEGIN:VCALENDAR
VERSION:2.0
PRODID:-//Talks.cam//talks.cam.ac.uk//
X-WR-CALNAME:Talks.cam
BEGIN:VEVENT
SUMMARY:Separating the forced atmospheric circulation response to Arctic s
 ea-ice loss from internal variability - Christine McKenna\, School of Eart
 h and Environment\, University of Leeds
DTSTART:20200302T130000Z
DTEND:20200302T140000Z
UID:TALK138541@talks.cam.ac.uk
CONTACT:Prof. Jerome Neufeld
DESCRIPTION:Abstract not available
LOCATION:MR5\, Centre for Mathematical Sciences
END:VEVENT
END:VCALENDAR
