BEGIN:VCALENDAR
VERSION:2.0
PRODID:-//Talks.cam//talks.cam.ac.uk//
X-WR-CALNAME:Talks.cam
BEGIN:VEVENT
SUMMARY:On the way from molecular cloud to solar system: New insights into
  the earliest stages of low-mass protostars - Jes Jørgensen\, Argelander-
 Institute for Astronomy\, University of Bonn
DTSTART:20081202T163000Z
DTEND:20081202T173000Z
UID:TALK13891@talks.cam.ac.uk
CONTACT:Jane Buckle
DESCRIPTION:Abstract not available
LOCATION:Ryle Seminar Room\, Cavendish Laboratory
END:VEVENT
END:VCALENDAR
