BEGIN:VCALENDAR
VERSION:2.0
PRODID:-//Talks.cam//talks.cam.ac.uk//
X-WR-CALNAME:Talks.cam
BEGIN:VEVENT
SUMMARY:(Nobel Laureate Lecture - CUAS & CUPS Joint Talk): The Exoplanet R
 evolution - Prof. Didier Queloz
DTSTART:20200219T200000Z
DTEND:20200219T210000Z
UID:TALK139033@talks.cam.ac.uk
CONTACT:Tommy Tai
DESCRIPTION:Over the past 25 years spectacular\, ever growing\, discoverie
 s of exoplanet systems have modified our perspective on planet formation a
 s a whole and more specifically our place in the Universe.  \n\nI will int
 roduce the audience with the exoplanet diversity and describe what we have
  learnt on their structure and formation mechanisms.  Based on recent work
 s about origin of life on Earth\, I’ll present new perceptive about mini
 mum conditions required to allow for the formation of life chemical buildi
 ng blocks. I will describe a possible pathway to detect Earth like systems
  amenable for future work about origins of life.
LOCATION:Bristol-Meyers Squibb lecture theatre\, Chemistry Department\, Le
 nsfield Road
END:VEVENT
END:VCALENDAR
