BEGIN:VCALENDAR
VERSION:2.0
PRODID:-//Talks.cam//talks.cam.ac.uk//
X-WR-CALNAME:Talks.cam
BEGIN:VEVENT
SUMMARY:Anti-malware software and trusting trust - Lili Janzer\, Churchill
  College
DTSTART:20200129T191500Z
DTEND:20200129T194500Z
UID:TALK139126@talks.cam.ac.uk
CONTACT:Matthew Ireland
DESCRIPTION:Understanding security attacks and protecting against them is 
 a critical part of practically all systems nowadays. In this talk I will b
 riefly present the main approaches of most anti-malware software\, and pre
 sent a specific\, unusual attack often called "trusting trust attack". "Tr
 usting trust" is based on a fun programming challenge\, but with a little 
 trick it becomes a sneaky way to insert backdoors into programs. 
LOCATION:Wolfson Hall\, Churchill College
END:VEVENT
END:VCALENDAR
