BEGIN:VCALENDAR
VERSION:2.0
PRODID:-//Talks.cam//talks.cam.ac.uk//
X-WR-CALNAME:Talks.cam
BEGIN:VEVENT
SUMMARY:Imaging & Mathematics Network Meeting - Lent term - Speaker to be 
 confirmed
DTSTART:20200303T150000Z
DTEND:20200303T163000Z
UID:TALK139261@talks.cam.ac.uk
CONTACT:J.W.Stevens
DESCRIPTION:Abstract not available
LOCATION:Cambridge Institute Lecture Theatre(CRUK) Robinson	Way Cambridge\
 ,CB2 0RE
END:VEVENT
END:VCALENDAR
